Workbook

Sheet Start here
B2: Cleaning Schedule
B3: From Kitchen Table Sheets · free to use
B5: How to use it
B6: 1. Settings tab: type the names of the people who share the jobs (up to 6).
B7: 2. Tasks tab: one row per job — how often it should be done (every 3 days, 2 weeks, 1 month…), when it was last done, and who does it.
B8: 3. The sheet works out when each job is next due and marks it Overdue, Due today, This week or Later.
B9: 4. This Week tab: everything overdue or due in the next 7 days, most urgent first, with who's on it.
B10: 5. When you finish a job, change its 'Last done' date to today. Shortcut: click the cell and press Ctrl + ; (works in Excel and Google Sheets).
B12: Rotating jobs
B13: Choose 'Rotate' as the person and the job passes to the next name on the list each week, so nobody is stuck with the same job.
B15: Colours
B16: Yellow cells with blue text = yours. Grey-headed columns are calculated.
B17: The example 'Last done' dates count back from today, so the file always shows a realistic mix. Type real dates over them.

Sheet This Week
A1: This week
A2: ="Overdue and due in the next 7 days · as of "&TEXT(Settings!B3,"dddd d mmmm") -> Overdue and due in the next 7 days · as of Sunday 25 October
B5: Job | C5: Room | D5: Who | E5: Due | F5: Status | G5: ✓
A6: =IFERROR(SMALL(Tasks!$K$6:$K$105,1),"") -> 99995023 | B6: =IF(A6="","",INDEX(Tasks!$A$6:$A$105,MATCH(A6,Tasks!$K$6:$K$105,0))) -> Wash throws and cushion covers | C6: =IF(A6="","",INDEX(Tasks!$B$6:$B$105,MATCH(A6,Tasks!$K$6:$K$105,0))) -> Living room | D6: =IF(A6="","",INDEX(Tasks!$J$6:$J$105,MATCH(A6,Tasks!$K$6:$K$105,0))) -> Jordan | E6: =IF(A6="","",INDEX(Tasks!$G$6:$G$105,MATCH(A6,Tasks!$K$6:$K$105,0))) -> 46315 | F6: =IF(A6="","",INDEX(Tasks!$I$6:$I$105,MATCH(A6,Tasks!$K$6:$K$105,0))) -> Overdue
A7: =IFERROR(SMALL(Tasks!$K$6:$K$105,2),"") -> 99997018 | B7: =IF(A7="","",INDEX(Tasks!$A$6:$A$105,MATCH(A7,Tasks!$K$6:$K$105,0))) -> Change bed sheets | C7: =IF(A7="","",INDEX(Tasks!$B$6:$B$105,MATCH(A7,Tasks!$K$6:$K$105,0))) -> Bedrooms | D7: =IF(A7="","",INDEX(Tasks!$J$6:$J$105,MATCH(A7,Tasks!$K$6:$K$105,0))) -> Jordan | E7: =IF(A7="","",INDEX(Tasks!$G$6:$G$105,MATCH(A7,Tasks!$K$6:$K$105,0))) -> 46317 | F7: =IF(A7="","",INDEX(Tasks!$I$6:$I$105,MATCH(A7,Tasks!$K$6:$K$105,0))) -> Overdue
A8: =IFERROR(SMALL(Tasks!$K$6:$K$105,3),"") -> 99998009 | B8: =IF(A8="","",INDEX(Tasks!$A$6:$A$105,MATCH(A8,Tasks!$K$6:$K$105,0))) -> Clean microwave | C8: =IF(A8="","",INDEX(Tasks!$B$6:$B$105,MATCH(A8,Tasks!$K$6:$K$105,0))) -> Kitchen | D8: =IF(A8="","",INDEX(Tasks!$J$6:$J$105,MATCH(A8,Tasks!$K$6:$K$105,0))) -> Jordan | E8: =IF(A8="","",INDEX(Tasks!$G$6:$G$105,MATCH(A8,Tasks!$K$6:$K$105,0))) -> 46318 | F8: =IF(A8="","",INDEX(Tasks!$I$6:$I$105,MATCH(A8,Tasks!$K$6:$K$105,0))) -> Overdue
A9: =IFERROR(SMALL(Tasks!$K$6:$K$105,4),"") -> 99999008 | B9: =IF(A9="","",INDEX(Tasks!$A$6:$A$105,MATCH(A9,Tasks!$K$6:$K$105,0))) -> Take out trash and recycling | C9: =IF(A9="","",INDEX(Tasks!$B$6:$B$105,MATCH(A9,Tasks!$K$6:$K$105,0))) -> Kitchen | D9: =IF(A9="","",INDEX(Tasks!$J$6:$J$105,MATCH(A9,Tasks!$K$6:$K$105,0))) -> Sam | E9: =IF(A9="","",INDEX(Tasks!$G$6:$G$105,MATCH(A9,Tasks!$K$6:$K$105,0))) -> 46319 | F9: =IF(A9="","",INDEX(Tasks!$I$6:$I$105,MATCH(A9,Tasks!$K$6:$K$105,0))) -> Overdue
A10: =IFERROR(SMALL(Tasks!$K$6:$K$105,5),"") -> 99999013 | B10: =IF(A10="","",INDEX(Tasks!$A$6:$A$105,MATCH(A10,Tasks!$K$6:$K$105,0))) -> Clean toilet | C10: =IF(A10="","",INDEX(Tasks!$B$6:$B$105,MATCH(A10,Tasks!$K$6:$K$105,0))) -> Bathroom | D10: =IF(A10="","",INDEX(Tasks!$J$6:$J$105,MATCH(A10,Tasks!$K$6:$K$105,0))) -> Alex | E10: =IF(A10="","",INDEX(Tasks!$G$6:$G$105,MATCH(A10,Tasks!$K$6:$K$105,0))) -> 46319 | F10: =IF(A10="","",INDEX(Tasks!$I$6:$I$105,MATCH(A10,Tasks!$K$6:$K$105,0))) -> Overdue
A11: =IFERROR(SMALL(Tasks!$K$6:$K$105,6),"") -> 99999025 | B11: =IF(A11="","",INDEX(Tasks!$A$6:$A$105,MATCH(A11,Tasks!$K$6:$K$105,0))) -> Wipe light switches and door handles | C11: =IF(A11="","",INDEX(Tasks!$B$6:$B$105,MATCH(A11,Tasks!$K$6:$K$105,0))) -> Whole house | D11: =IF(A11="","",INDEX(Tasks!$J$6:$J$105,MATCH(A11,Tasks!$K$6:$K$105,0))) -> Alex | E11: =IF(A11="","",INDEX(Tasks!$G$6:$G$105,MATCH(A11,Tasks!$K$6:$K$105,0))) -> 46319 | F11: =IF(A11="","",INDEX(Tasks!$I$6:$I$105,MATCH(A11,Tasks!$K$6:$K$105,0))) -> Overdue
A12: =IFERROR(SMALL(Tasks!$K$6:$K$105,7),"") -> 99999027 | B12: =IF(A12="","",INDEX(Tasks!$A$6:$A$105,MATCH(A12,Tasks!$K$6:$K$105,0))) -> Test smoke alarms | C12: =IF(A12="","",INDEX(Tasks!$B$6:$B$105,MATCH(A12,Tasks!$K$6:$K$105,0))) -> Whole house | D12: =IF(A12="","",INDEX(Tasks!$J$6:$J$105,MATCH(A12,Tasks!$K$6:$K$105,0))) -> Sam | E12: =IF(A12="","",INDEX(Tasks!$G$6:$G$105,MATCH(A12,Tasks!$K$6:$K$105,0))) -> 46319 | F12: =IF(A12="","",INDEX(Tasks!$I$6:$I$105,MATCH(A12,Tasks!$K$6:$K$105,0))) -> Overdue
A13: =IFERROR(SMALL(Tasks!$K$6:$K$105,8),"") -> 100000006 | B13: =IF(A13="","",INDEX(Tasks!$A$6:$A$105,MATCH(A13,Tasks!$K$6:$K$105,0))) -> Wipe counters and stovetop | C13: =IF(A13="","",INDEX(Tasks!$B$6:$B$105,MATCH(A13,Tasks!$K$6:$K$105,0))) -> Kitchen | D13: =IF(A13="","",INDEX(Tasks!$J$6:$J$105,MATCH(A13,Tasks!$K$6:$K$105,0))) -> Jordan | E13: =IF(A13="","",INDEX(Tasks!$G$6:$G$105,MATCH(A13,Tasks!$K$6:$K$105,0))) -> 46320 | F13: =IF(A13="","",INDEX(Tasks!$I$6:$I$105,MATCH(A13,Tasks!$K$6:$K$105,0))) -> Due today
A14: =IFERROR(SMALL(Tasks!$K$6:$K$105,9),"") -> 100000017 | B14: =IF(A14="","",INDEX(Tasks!$A$6:$A$105,MATCH(A14,Tasks!$K$6:$K$105,0))) -> Wash towels | C14: =IF(A14="","",INDEX(Tasks!$B$6:$B$105,MATCH(A14,Tasks!$K$6:$K$105,0))) -> Bathroom | D14: =IF(A14="","",INDEX(Tasks!$J$6:$J$105,MATCH(A14,Tasks!$K$6:$K$105,0))) -> Sam | E14: =IF(A14="","",INDEX(Tasks!$G$6:$G$105,MATCH(A14,Tasks!$K$6:$K$105,0))) -> 46320 | F14: =IF(A14="","",INDEX(Tasks!$I$6:$I$105,MATCH(A14,Tasks!$K$6:$K$105,0))) -> Due today
A15: =IFERROR(SMALL(Tasks!$K$6:$K$105,10),"") -> 100001007 | B15: =IF(A15="","",INDEX(Tasks!$A$6:$A$105,MATCH(A15,Tasks!$K$6:$K$105,0))) -> Load / unload dishwasher | C15: =IF(A15="","",INDEX(Tasks!$B$6:$B$105,MATCH(A15,Tasks!$K$6:$K$105,0))) -> Kitchen | D15: =IF(A15="","",INDEX(Tasks!$J$6:$J$105,MATCH(A15,Tasks!$K$6:$K$105,0))) -> Sam | E15: =IF(A15="","",INDEX(Tasks!$G$6:$G$105,MATCH(A15,Tasks!$K$6:$K$105,0))) -> 46321 | F15: =IF(A15="","",INDEX(Tasks!$I$6:$I$105,MATCH(A15,Tasks!$K$6:$K$105,0))) -> This week
A16: =IFERROR(SMALL(Tasks!$K$6:$K$105,11),"") -> 100001011 | B16: =IF(A16="","",INDEX(Tasks!$A$6:$A$105,MATCH(A16,Tasks!$K$6:$K$105,0))) -> Clear out fridge | C16: =IF(A16="","",INDEX(Tasks!$B$6:$B$105,MATCH(A16,Tasks!$K$6:$K$105,0))) -> Kitchen | D16: =IF(A16="","",INDEX(Tasks!$J$6:$J$105,MATCH(A16,Tasks!$K$6:$K$105,0))) -> Jordan | E16: =IF(A16="","",INDEX(Tasks!$G$6:$G$105,MATCH(A16,Tasks!$K$6:$K$105,0))) -> 46321 | F16: =IF(A16="","",INDEX(Tasks!$I$6:$I$105,MATCH(A16,Tasks!$K$6:$K$105,0))) -> This week
A17: =IFERROR(SMALL(Tasks!$K$6:$K$105,12),"") -> 100001015 | B17: =IF(A17="","",INDEX(Tasks!$A$6:$A$105,MATCH(A17,Tasks!$K$6:$K$105,0))) -> Wipe sink and mirror | C17: =IF(A17="","",INDEX(Tasks!$B$6:$B$105,MATCH(A17,Tasks!$K$6:$K$105,0))) -> Bathroom | D17: =IF(A17="","",INDEX(Tasks!$J$6:$J$105,MATCH(A17,Tasks!$K$6:$K$105,0))) -> Alex | E17: =IF(A17="","",INDEX(Tasks!$G$6:$G$105,MATCH(A17,Tasks!$K$6:$K$105,0))) -> 46321 | F17: =IF(A17="","",INDEX(Tasks!$I$6:$I$105,MATCH(A17,Tasks!$K$6:$K$105,0))) -> This week
A18: =IFERROR(SMALL(Tasks!$K$6:$K$105,13),"") -> 100001021 | B18: =IF(A18="","",INDEX(Tasks!$A$6:$A$105,MATCH(A18,Tasks!$K$6:$K$105,0))) -> Vacuum living room | C18: =IF(A18="","",INDEX(Tasks!$B$6:$B$105,MATCH(A18,Tasks!$K$6:$K$105,0))) -> Living room | D18: =IF(A18="","",INDEX(Tasks!$J$6:$J$105,MATCH(A18,Tasks!$K$6:$K$105,0))) -> Sam | E18: =IF(A18="","",INDEX(Tasks!$G$6:$G$105,MATCH(A18,Tasks!$K$6:$K$105,0))) -> 46321 | F18: =IF(A18="","",INDEX(Tasks!$I$6:$I$105,MATCH(A18,Tasks!$K$6:$K$105,0))) -> This week
A19: =IFERROR(SMALL(Tasks!$K$6:$K$105,14),"") -> 100002010 | B19: =IF(A19="","",INDEX(Tasks!$A$6:$A$105,MATCH(A19,Tasks!$K$6:$K$105,0))) -> Mop kitchen floor | C19: =IF(A19="","",INDEX(Tasks!$B$6:$B$105,MATCH(A19,Tasks!$K$6:$K$105,0))) -> Kitchen | D19: =IF(A19="","",INDEX(Tasks!$J$6:$J$105,MATCH(A19,Tasks!$K$6:$K$105,0))) -> Alex | E19: =IF(A19="","",INDEX(Tasks!$G$6:$G$105,MATCH(A19,Tasks!$K$6:$K$105,0))) -> 46322 | F19: =IF(A19="","",INDEX(Tasks!$I$6:$I$105,MATCH(A19,Tasks!$K$6:$K$105,0))) -> This week
A20: =IFERROR(SMALL(Tasks!$K$6:$K$105,15),"") -> 100002022 | B20: =IF(A20="","",INDEX(Tasks!$A$6:$A$105,MATCH(A20,Tasks!$K$6:$K$105,0))) -> Dust shelves and surfaces | C20: =IF(A20="","",INDEX(Tasks!$B$6:$B$105,MATCH(A20,Tasks!$K$6:$K$105,0))) -> Living room | D20: =IF(A20="","",INDEX(Tasks!$J$6:$J$105,MATCH(A20,Tasks!$K$6:$K$105,0))) -> Sam | E20: =IF(A20="","",INDEX(Tasks!$G$6:$G$105,MATCH(A20,Tasks!$K$6:$K$105,0))) -> 46322 | F20: =IF(A20="","",INDEX(Tasks!$I$6:$I$105,MATCH(A20,Tasks!$K$6:$K$105,0))) -> This week
A21: =IFERROR(SMALL(Tasks!$K$6:$K$105,16),"") -> 100003019 | B21: =IF(A21="","",INDEX(Tasks!$A$6:$A$105,MATCH(A21,Tasks!$K$6:$K$105,0))) -> Vacuum bedrooms | C21: =IF(A21="","",INDEX(Tasks!$B$6:$B$105,MATCH(A21,Tasks!$K$6:$K$105,0))) -> Bedrooms | D21: =IF(A21="","",INDEX(Tasks!$J$6:$J$105,MATCH(A21,Tasks!$K$6:$K$105,0))) -> Jordan | E21: =IF(A21="","",INDEX(Tasks!$G$6:$G$105,MATCH(A21,Tasks!$K$6:$K$105,0))) -> 46323 | F21: =IF(A21="","",INDEX(Tasks!$I$6:$I$105,MATCH(A21,Tasks!$K$6:$K$105,0))) -> This week
A22: =IFERROR(SMALL(Tasks!$K$6:$K$105,17),"") -> 100004014 | B22: =IF(A22="","",INDEX(Tasks!$A$6:$A$105,MATCH(A22,Tasks!$K$6:$K$105,0))) -> Scrub shower / tub | C22: =IF(A22="","",INDEX(Tasks!$B$6:$B$105,MATCH(A22,Tasks!$K$6:$K$105,0))) -> Bathroom | D22: =IF(A22="","",INDEX(Tasks!$J$6:$J$105,MATCH(A22,Tasks!$K$6:$K$105,0))) -> Jordan | E22: =IF(A22="","",INDEX(Tasks!$G$6:$G$105,MATCH(A22,Tasks!$K$6:$K$105,0))) -> 46324 | F22: =IF(A22="","",INDEX(Tasks!$I$6:$I$105,MATCH(A22,Tasks!$K$6:$K$105,0))) -> This week
A23: =IFERROR(SMALL(Tasks!$K$6:$K$105,18),"") -> 100005028 | B23: =IF(A23="","",INDEX(Tasks!$A$6:$A$105,MATCH(A23,Tasks!$K$6:$K$105,0))) -> Sweep porch / entryway | C23: =IF(A23="","",INDEX(Tasks!$B$6:$B$105,MATCH(A23,Tasks!$K$6:$K$105,0))) -> Outside | D23: =IF(A23="","",INDEX(Tasks!$J$6:$J$105,MATCH(A23,Tasks!$K$6:$K$105,0))) -> Jordan | E23: =IF(A23="","",INDEX(Tasks!$G$6:$G$105,MATCH(A23,Tasks!$K$6:$K$105,0))) -> 46325 | F23: =IF(A23="","",INDEX(Tasks!$I$6:$I$105,MATCH(A23,Tasks!$K$6:$K$105,0))) -> This week
A24: =IFERROR(SMALL(Tasks!$K$6:$K$105,19),"") | B24: =IF(A24="","",INDEX(Tasks!$A$6:$A$105,MATCH(A24,Tasks!$K$6:$K$105,0))) | C24: =IF(A24="","",INDEX(Tasks!$B$6:$B$105,MATCH(A24,Tasks!$K$6:$K$105,0))) | D24: =IF(A24="","",INDEX(Tasks!$J$6:$J$105,MATCH(A24,Tasks!$K$6:$K$105,0))) | E24: =IF(A24="","",INDEX(Tasks!$G$6:$G$105,MATCH(A24,Tasks!$K$6:$K$105,0))) | F24: =IF(A24="","",INDEX(Tasks!$I$6:$I$105,MATCH(A24,Tasks!$K$6:$K$105,0)))
A25: =IFERROR(SMALL(Tasks!$K$6:$K$105,20),"") | B25: =IF(A25="","",INDEX(Tasks!$A$6:$A$105,MATCH(A25,Tasks!$K$6:$K$105,0))) | C25: =IF(A25="","",INDEX(Tasks!$B$6:$B$105,MATCH(A25,Tasks!$K$6:$K$105,0))) | D25: =IF(A25="","",INDEX(Tasks!$J$6:$J$105,MATCH(A25,Tasks!$K$6:$K$105,0))) | E25: =IF(A25="","",INDEX(Tasks!$G$6:$G$105,MATCH(A25,Tasks!$K$6:$K$105,0))) | F25: =IF(A25="","",INDEX(Tasks!$I$6:$I$105,MATCH(A25,Tasks!$K$6:$K$105,0)))
A26: =IFERROR(SMALL(Tasks!$K$6:$K$105,21),"") | B26: =IF(A26="","",INDEX(Tasks!$A$6:$A$105,MATCH(A26,Tasks!$K$6:$K$105,0))) | C26: =IF(A26="","",INDEX(Tasks!$B$6:$B$105,MATCH(A26,Tasks!$K$6:$K$105,0))) | D26: =IF(A26="","",INDEX(Tasks!$J$6:$J$105,MATCH(A26,Tasks!$K$6:$K$105,0))) | E26: =IF(A26="","",INDEX(Tasks!$G$6:$G$105,MATCH(A26,Tasks!$K$6:$K$105,0))) | F26: =IF(A26="","",INDEX(Tasks!$I$6:$I$105,MATCH(A26,Tasks!$K$6:$K$105,0)))
A27: =IFERROR(SMALL(Tasks!$K$6:$K$105,22),"") | B27: =IF(A27="","",INDEX(Tasks!$A$6:$A$105,MATCH(A27,Tasks!$K$6:$K$105,0))) | C27: =IF(A27="","",INDEX(Tasks!$B$6:$B$105,MATCH(A27,Tasks!$K$6:$K$105,0))) | D27: =IF(A27="","",INDEX(Tasks!$J$6:$J$105,MATCH(A27,Tasks!$K$6:$K$105,0))) | E27: =IF(A27="","",INDEX(Tasks!$G$6:$G$105,MATCH(A27,Tasks!$K$6:$K$105,0))) | F27: =IF(A27="","",INDEX(Tasks!$I$6:$I$105,MATCH(A27,Tasks!$K$6:$K$105,0)))
A28: =IFERROR(SMALL(Tasks!$K$6:$K$105,23),"") | B28: =IF(A28="","",INDEX(Tasks!$A$6:$A$105,MATCH(A28,Tasks!$K$6:$K$105,0))) | C28: =IF(A28="","",INDEX(Tasks!$B$6:$B$105,MATCH(A28,Tasks!$K$6:$K$105,0))) | D28: =IF(A28="","",INDEX(Tasks!$J$6:$J$105,MATCH(A28,Tasks!$K$6:$K$105,0))) | E28: =IF(A28="","",INDEX(Tasks!$G$6:$G$105,MATCH(A28,Tasks!$K$6:$K$105,0))) | F28: =IF(A28="","",INDEX(Tasks!$I$6:$I$105,MATCH(A28,Tasks!$K$6:$K$105,0)))
A29: =IFERROR(SMALL(Tasks!$K$6:$K$105,24),"") | B29: =IF(A29="","",INDEX(Tasks!$A$6:$A$105,MATCH(A29,Tasks!$K$6:$K$105,0))) | C29: =IF(A29="","",INDEX(Tasks!$B$6:$B$105,MATCH(A29,Tasks!$K$6:$K$105,0))) | D29: =IF(A29="","",INDEX(Tasks!$J$6:$J$105,MATCH(A29,Tasks!$K$6:$K$105,0))) | E29: =IF(A29="","",INDEX(Tasks!$G$6:$G$105,MATCH(A29,Tasks!$K$6:$K$105,0))) | F29: =IF(A29="","",INDEX(Tasks!$I$6:$I$105,MATCH(A29,Tasks!$K$6:$K$105,0)))
A30: =IFERROR(SMALL(Tasks!$K$6:$K$105,25),"") | B30: =IF(A30="","",INDEX(Tasks!$A$6:$A$105,MATCH(A30,Tasks!$K$6:$K$105,0))) | C30: =IF(A30="","",INDEX(Tasks!$B$6:$B$105,MATCH(A30,Tasks!$K$6:$K$105,0))) | D30: =IF(A30="","",INDEX(Tasks!$J$6:$J$105,MATCH(A30,Tasks!$K$6:$K$105,0))) | E30: =IF(A30="","",INDEX(Tasks!$G$6:$G$105,MATCH(A30,Tasks!$K$6:$K$105,0))) | F30: =IF(A30="","",INDEX(Tasks!$I$6:$I$105,MATCH(A30,Tasks!$K$6:$K$105,0)))
A31: =IFERROR(SMALL(Tasks!$K$6:$K$105,26),"") | B31: =IF(A31="","",INDEX(Tasks!$A$6:$A$105,MATCH(A31,Tasks!$K$6:$K$105,0))) | C31: =IF(A31="","",INDEX(Tasks!$B$6:$B$105,MATCH(A31,Tasks!$K$6:$K$105,0))) | D31: =IF(A31="","",INDEX(Tasks!$J$6:$J$105,MATCH(A31,Tasks!$K$6:$K$105,0))) | E31: =IF(A31="","",INDEX(Tasks!$G$6:$G$105,MATCH(A31,Tasks!$K$6:$K$105,0))) | F31: =IF(A31="","",INDEX(Tasks!$I$6:$I$105,MATCH(A31,Tasks!$K$6:$K$105,0)))
A32: =IFERROR(SMALL(Tasks!$K$6:$K$105,27),"") | B32: =IF(A32="","",INDEX(Tasks!$A$6:$A$105,MATCH(A32,Tasks!$K$6:$K$105,0))) | C32: =IF(A32="","",INDEX(Tasks!$B$6:$B$105,MATCH(A32,Tasks!$K$6:$K$105,0))) | D32: =IF(A32="","",INDEX(Tasks!$J$6:$J$105,MATCH(A32,Tasks!$K$6:$K$105,0))) | E32: =IF(A32="","",INDEX(Tasks!$G$6:$G$105,MATCH(A32,Tasks!$K$6:$K$105,0))) | F32: =IF(A32="","",INDEX(Tasks!$I$6:$I$105,MATCH(A32,Tasks!$K$6:$K$105,0)))
A33: =IFERROR(SMALL(Tasks!$K$6:$K$105,28),"") | B33: =IF(A33="","",INDEX(Tasks!$A$6:$A$105,MATCH(A33,Tasks!$K$6:$K$105,0))) | C33: =IF(A33="","",INDEX(Tasks!$B$6:$B$105,MATCH(A33,Tasks!$K$6:$K$105,0))) | D33: =IF(A33="","",INDEX(Tasks!$J$6:$J$105,MATCH(A33,Tasks!$K$6:$K$105,0))) | E33: =IF(A33="","",INDEX(Tasks!$G$6:$G$105,MATCH(A33,Tasks!$K$6:$K$105,0))) | F33: =IF(A33="","",INDEX(Tasks!$I$6:$I$105,MATCH(A33,Tasks!$K$6:$K$105,0)))
A34: =IFERROR(SMALL(Tasks!$K$6:$K$105,29),"") | B34: =IF(A34="","",INDEX(Tasks!$A$6:$A$105,MATCH(A34,Tasks!$K$6:$K$105,0))) | C34: =IF(A34="","",INDEX(Tasks!$B$6:$B$105,MATCH(A34,Tasks!$K$6:$K$105,0))) | D34: =IF(A34="","",INDEX(Tasks!$J$6:$J$105,MATCH(A34,Tasks!$K$6:$K$105,0))) | E34: =IF(A34="","",INDEX(Tasks!$G$6:$G$105,MATCH(A34,Tasks!$K$6:$K$105,0))) | F34: =IF(A34="","",INDEX(Tasks!$I$6:$I$105,MATCH(A34,Tasks!$K$6:$K$105,0)))
A35: =IFERROR(SMALL(Tasks!$K$6:$K$105,30),"") | B35: =IF(A35="","",INDEX(Tasks!$A$6:$A$105,MATCH(A35,Tasks!$K$6:$K$105,0))) | C35: =IF(A35="","",INDEX(Tasks!$B$6:$B$105,MATCH(A35,Tasks!$K$6:$K$105,0))) | D35: =IF(A35="","",INDEX(Tasks!$J$6:$J$105,MATCH(A35,Tasks!$K$6:$K$105,0))) | E35: =IF(A35="","",INDEX(Tasks!$G$6:$G$105,MATCH(A35,Tasks!$K$6:$K$105,0))) | F35: =IF(A35="","",INDEX(Tasks!$I$6:$I$105,MATCH(A35,Tasks!$K$6:$K$105,0)))
A36: =IFERROR(SMALL(Tasks!$K$6:$K$105,31),"") | B36: =IF(A36="","",INDEX(Tasks!$A$6:$A$105,MATCH(A36,Tasks!$K$6:$K$105,0))) | C36: =IF(A36="","",INDEX(Tasks!$B$6:$B$105,MATCH(A36,Tasks!$K$6:$K$105,0))) | D36: =IF(A36="","",INDEX(Tasks!$J$6:$J$105,MATCH(A36,Tasks!$K$6:$K$105,0))) | E36: =IF(A36="","",INDEX(Tasks!$G$6:$G$105,MATCH(A36,Tasks!$K$6:$K$105,0))) | F36: =IF(A36="","",INDEX(Tasks!$I$6:$I$105,MATCH(A36,Tasks!$K$6:$K$105,0)))
A37: =IFERROR(SMALL(Tasks!$K$6:$K$105,32),"") | B37: =IF(A37="","",INDEX(Tasks!$A$6:$A$105,MATCH(A37,Tasks!$K$6:$K$105,0))) | C37: =IF(A37="","",INDEX(Tasks!$B$6:$B$105,MATCH(A37,Tasks!$K$6:$K$105,0))) | D37: =IF(A37="","",INDEX(Tasks!$J$6:$J$105,MATCH(A37,Tasks!$K$6:$K$105,0))) | E37: =IF(A37="","",INDEX(Tasks!$G$6:$G$105,MATCH(A37,Tasks!$K$6:$K$105,0))) | F37: =IF(A37="","",INDEX(Tasks!$I$6:$I$105,MATCH(A37,Tasks!$K$6:$K$105,0)))
A38: =IFERROR(SMALL(Tasks!$K$6:$K$105,33),"") | B38: =IF(A38="","",INDEX(Tasks!$A$6:$A$105,MATCH(A38,Tasks!$K$6:$K$105,0))) | C38: =IF(A38="","",INDEX(Tasks!$B$6:$B$105,MATCH(A38,Tasks!$K$6:$K$105,0))) | D38: =IF(A38="","",INDEX(Tasks!$J$6:$J$105,MATCH(A38,Tasks!$K$6:$K$105,0))) | E38: =IF(A38="","",INDEX(Tasks!$G$6:$G$105,MATCH(A38,Tasks!$K$6:$K$105,0))) | F38: =IF(A38="","",INDEX(Tasks!$I$6:$I$105,MATCH(A38,Tasks!$K$6:$K$105,0)))
A39: =IFERROR(SMALL(Tasks!$K$6:$K$105,34),"") | B39: =IF(A39="","",INDEX(Tasks!$A$6:$A$105,MATCH(A39,Tasks!$K$6:$K$105,0))) | C39: =IF(A39="","",INDEX(Tasks!$B$6:$B$105,MATCH(A39,Tasks!$K$6:$K$105,0))) | D39: =IF(A39="","",INDEX(Tasks!$J$6:$J$105,MATCH(A39,Tasks!$K$6:$K$105,0))) | E39: =IF(A39="","",INDEX(Tasks!$G$6:$G$105,MATCH(A39,Tasks!$K$6:$K$105,0))) | F39: =IF(A39="","",INDEX(Tasks!$I$6:$I$105,MATCH(A39,Tasks!$K$6:$K$105,0)))
A40: =IFERROR(SMALL(Tasks!$K$6:$K$105,35),"") | B40: =IF(A40="","",INDEX(Tasks!$A$6:$A$105,MATCH(A40,Tasks!$K$6:$K$105,0))) | C40: =IF(A40="","",INDEX(Tasks!$B$6:$B$105,MATCH(A40,Tasks!$K$6:$K$105,0))) | D40: =IF(A40="","",INDEX(Tasks!$J$6:$J$105,MATCH(A40,Tasks!$K$6:$K$105,0))) | E40: =IF(A40="","",INDEX(Tasks!$G$6:$G$105,MATCH(A40,Tasks!$K$6:$K$105,0))) | F40: =IF(A40="","",INDEX(Tasks!$I$6:$I$105,MATCH(A40,Tasks!$K$6:$K$105,0)))
A41: =IFERROR(SMALL(Tasks!$K$6:$K$105,36),"") | B41: =IF(A41="","",INDEX(Tasks!$A$6:$A$105,MATCH(A41,Tasks!$K$6:$K$105,0))) | C41: =IF(A41="","",INDEX(Tasks!$B$6:$B$105,MATCH(A41,Tasks!$K$6:$K$105,0))) | D41: =IF(A41="","",INDEX(Tasks!$J$6:$J$105,MATCH(A41,Tasks!$K$6:$K$105,0))) | E41: =IF(A41="","",INDEX(Tasks!$G$6:$G$105,MATCH(A41,Tasks!$K$6:$K$105,0))) | F41: =IF(A41="","",INDEX(Tasks!$I$6:$I$105,MATCH(A41,Tasks!$K$6:$K$105,0)))
A42: =IFERROR(SMALL(Tasks!$K$6:$K$105,37),"") | B42: =IF(A42="","",INDEX(Tasks!$A$6:$A$105,MATCH(A42,Tasks!$K$6:$K$105,0))) | C42: =IF(A42="","",INDEX(Tasks!$B$6:$B$105,MATCH(A42,Tasks!$K$6:$K$105,0))) | D42: =IF(A42="","",INDEX(Tasks!$J$6:$J$105,MATCH(A42,Tasks!$K$6:$K$105,0))) | E42: =IF(A42="","",INDEX(Tasks!$G$6:$G$105,MATCH(A42,Tasks!$K$6:$K$105,0))) | F42: =IF(A42="","",INDEX(Tasks!$I$6:$I$105,MATCH(A42,Tasks!$K$6:$K$105,0)))
A43: =IFERROR(SMALL(Tasks!$K$6:$K$105,38),"") | B43: =IF(A43="","",INDEX(Tasks!$A$6:$A$105,MATCH(A43,Tasks!$K$6:$K$105,0))) | C43: =IF(A43="","",INDEX(Tasks!$B$6:$B$105,MATCH(A43,Tasks!$K$6:$K$105,0))) | D43: =IF(A43="","",INDEX(Tasks!$J$6:$J$105,MATCH(A43,Tasks!$K$6:$K$105,0))) | E43: =IF(A43="","",INDEX(Tasks!$G$6:$G$105,MATCH(A43,Tasks!$K$6:$K$105,0))) | F43: =IF(A43="","",INDEX(Tasks!$I$6:$I$105,MATCH(A43,Tasks!$K$6:$K$105,0)))
A44: =IFERROR(SMALL(Tasks!$K$6:$K$105,39),"") | B44: =IF(A44="","",INDEX(Tasks!$A$6:$A$105,MATCH(A44,Tasks!$K$6:$K$105,0))) | C44: =IF(A44="","",INDEX(Tasks!$B$6:$B$105,MATCH(A44,Tasks!$K$6:$K$105,0))) | D44: =IF(A44="","",INDEX(Tasks!$J$6:$J$105,MATCH(A44,Tasks!$K$6:$K$105,0))) | E44: =IF(A44="","",INDEX(Tasks!$G$6:$G$105,MATCH(A44,Tasks!$K$6:$K$105,0))) | F44: =IF(A44="","",INDEX(Tasks!$I$6:$I$105,MATCH(A44,Tasks!$K$6:$K$105,0)))
A45: =IFERROR(SMALL(Tasks!$K$6:$K$105,40),"") | B45: =IF(A45="","",INDEX(Tasks!$A$6:$A$105,MATCH(A45,Tasks!$K$6:$K$105,0))) | C45: =IF(A45="","",INDEX(Tasks!$B$6:$B$105,MATCH(A45,Tasks!$K$6:$K$105,0))) | D45: =IF(A45="","",INDEX(Tasks!$J$6:$J$105,MATCH(A45,Tasks!$K$6:$K$105,0))) | E45: =IF(A45="","",INDEX(Tasks!$G$6:$G$105,MATCH(A45,Tasks!$K$6:$K$105,0))) | F45: =IF(A45="","",INDEX(Tasks!$I$6:$I$105,MATCH(A45,Tasks!$K$6:$K$105,0)))
A46: =IFERROR(SMALL(Tasks!$K$6:$K$105,41),"") | B46: =IF(A46="","",INDEX(Tasks!$A$6:$A$105,MATCH(A46,Tasks!$K$6:$K$105,0))) | C46: =IF(A46="","",INDEX(Tasks!$B$6:$B$105,MATCH(A46,Tasks!$K$6:$K$105,0))) | D46: =IF(A46="","",INDEX(Tasks!$J$6:$J$105,MATCH(A46,Tasks!$K$6:$K$105,0))) | E46: =IF(A46="","",INDEX(Tasks!$G$6:$G$105,MATCH(A46,Tasks!$K$6:$K$105,0))) | F46: =IF(A46="","",INDEX(Tasks!$I$6:$I$105,MATCH(A46,Tasks!$K$6:$K$105,0)))
A47: =IFERROR(SMALL(Tasks!$K$6:$K$105,42),"") | B47: =IF(A47="","",INDEX(Tasks!$A$6:$A$105,MATCH(A47,Tasks!$K$6:$K$105,0))) | C47: =IF(A47="","",INDEX(Tasks!$B$6:$B$105,MATCH(A47,Tasks!$K$6:$K$105,0))) | D47: =IF(A47="","",INDEX(Tasks!$J$6:$J$105,MATCH(A47,Tasks!$K$6:$K$105,0))) | E47: =IF(A47="","",INDEX(Tasks!$G$6:$G$105,MATCH(A47,Tasks!$K$6:$K$105,0))) | F47: =IF(A47="","",INDEX(Tasks!$I$6:$I$105,MATCH(A47,Tasks!$K$6:$K$105,0)))
A48: =IFERROR(SMALL(Tasks!$K$6:$K$105,43),"") | B48: =IF(A48="","",INDEX(Tasks!$A$6:$A$105,MATCH(A48,Tasks!$K$6:$K$105,0))) | C48: =IF(A48="","",INDEX(Tasks!$B$6:$B$105,MATCH(A48,Tasks!$K$6:$K$105,0))) | D48: =IF(A48="","",INDEX(Tasks!$J$6:$J$105,MATCH(A48,Tasks!$K$6:$K$105,0))) | E48: =IF(A48="","",INDEX(Tasks!$G$6:$G$105,MATCH(A48,Tasks!$K$6:$K$105,0))) | F48: =IF(A48="","",INDEX(Tasks!$I$6:$I$105,MATCH(A48,Tasks!$K$6:$K$105,0)))
A49: =IFERROR(SMALL(Tasks!$K$6:$K$105,44),"") | B49: =IF(A49="","",INDEX(Tasks!$A$6:$A$105,MATCH(A49,Tasks!$K$6:$K$105,0))) | C49: =IF(A49="","",INDEX(Tasks!$B$6:$B$105,MATCH(A49,Tasks!$K$6:$K$105,0))) | D49: =IF(A49="","",INDEX(Tasks!$J$6:$J$105,MATCH(A49,Tasks!$K$6:$K$105,0))) | E49: =IF(A49="","",INDEX(Tasks!$G$6:$G$105,MATCH(A49,Tasks!$K$6:$K$105,0))) | F49: =IF(A49="","",INDEX(Tasks!$I$6:$I$105,MATCH(A49,Tasks!$K$6:$K$105,0)))
A50: =IFERROR(SMALL(Tasks!$K$6:$K$105,45),"") | B50: =IF(A50="","",INDEX(Tasks!$A$6:$A$105,MATCH(A50,Tasks!$K$6:$K$105,0))) | C50: =IF(A50="","",INDEX(Tasks!$B$6:$B$105,MATCH(A50,Tasks!$K$6:$K$105,0))) | D50: =IF(A50="","",INDEX(Tasks!$J$6:$J$105,MATCH(A50,Tasks!$K$6:$K$105,0))) | E50: =IF(A50="","",INDEX(Tasks!$G$6:$G$105,MATCH(A50,Tasks!$K$6:$K$105,0))) | F50: =IF(A50="","",INDEX(Tasks!$I$6:$I$105,MATCH(A50,Tasks!$K$6:$K$105,0)))
A51: =IFERROR(SMALL(Tasks!$K$6:$K$105,46),"") | B51: =IF(A51="","",INDEX(Tasks!$A$6:$A$105,MATCH(A51,Tasks!$K$6:$K$105,0))) | C51: =IF(A51="","",INDEX(Tasks!$B$6:$B$105,MATCH(A51,Tasks!$K$6:$K$105,0))) | D51: =IF(A51="","",INDEX(Tasks!$J$6:$J$105,MATCH(A51,Tasks!$K$6:$K$105,0))) | E51: =IF(A51="","",INDEX(Tasks!$G$6:$G$105,MATCH(A51,Tasks!$K$6:$K$105,0))) | F51: =IF(A51="","",INDEX(Tasks!$I$6:$I$105,MATCH(A51,Tasks!$K$6:$K$105,0)))
A52: =IFERROR(SMALL(Tasks!$K$6:$K$105,47),"") | B52: =IF(A52="","",INDEX(Tasks!$A$6:$A$105,MATCH(A52,Tasks!$K$6:$K$105,0))) | C52: =IF(A52="","",INDEX(Tasks!$B$6:$B$105,MATCH(A52,Tasks!$K$6:$K$105,0))) | D52: =IF(A52="","",INDEX(Tasks!$J$6:$J$105,MATCH(A52,Tasks!$K$6:$K$105,0))) | E52: =IF(A52="","",INDEX(Tasks!$G$6:$G$105,MATCH(A52,Tasks!$K$6:$K$105,0))) | F52: =IF(A52="","",INDEX(Tasks!$I$6:$I$105,MATCH(A52,Tasks!$K$6:$K$105,0)))
A53: =IFERROR(SMALL(Tasks!$K$6:$K$105,48),"") | B53: =IF(A53="","",INDEX(Tasks!$A$6:$A$105,MATCH(A53,Tasks!$K$6:$K$105,0))) | C53: =IF(A53="","",INDEX(Tasks!$B$6:$B$105,MATCH(A53,Tasks!$K$6:$K$105,0))) | D53: =IF(A53="","",INDEX(Tasks!$J$6:$J$105,MATCH(A53,Tasks!$K$6:$K$105,0))) | E53: =IF(A53="","",INDEX(Tasks!$G$6:$G$105,MATCH(A53,Tasks!$K$6:$K$105,0))) | F53: =IF(A53="","",INDEX(Tasks!$I$6:$I$105,MATCH(A53,Tasks!$K$6:$K$105,0)))
A54: =IFERROR(SMALL(Tasks!$K$6:$K$105,49),"") | B54: =IF(A54="","",INDEX(Tasks!$A$6:$A$105,MATCH(A54,Tasks!$K$6:$K$105,0))) | C54: =IF(A54="","",INDEX(Tasks!$B$6:$B$105,MATCH(A54,Tasks!$K$6:$K$105,0))) | D54: =IF(A54="","",INDEX(Tasks!$J$6:$J$105,MATCH(A54,Tasks!$K$6:$K$105,0))) | E54: =IF(A54="","",INDEX(Tasks!$G$6:$G$105,MATCH(A54,Tasks!$K$6:$K$105,0))) | F54: =IF(A54="","",INDEX(Tasks!$I$6:$I$105,MATCH(A54,Tasks!$K$6:$K$105,0)))
A55: =IFERROR(SMALL(Tasks!$K$6:$K$105,50),"") | B55: =IF(A55="","",INDEX(Tasks!$A$6:$A$105,MATCH(A55,Tasks!$K$6:$K$105,0))) | C55: =IF(A55="","",INDEX(Tasks!$B$6:$B$105,MATCH(A55,Tasks!$K$6:$K$105,0))) | D55: =IF(A55="","",INDEX(Tasks!$J$6:$J$105,MATCH(A55,Tasks!$K$6:$K$105,0))) | E55: =IF(A55="","",INDEX(Tasks!$G$6:$G$105,MATCH(A55,Tasks!$K$6:$K$105,0))) | F55: =IF(A55="","",INDEX(Tasks!$I$6:$I$105,MATCH(A55,Tasks!$K$6:$K$105,0)))
A56: =IFERROR(SMALL(Tasks!$K$6:$K$105,51),"") | B56: =IF(A56="","",INDEX(Tasks!$A$6:$A$105,MATCH(A56,Tasks!$K$6:$K$105,0))) | C56: =IF(A56="","",INDEX(Tasks!$B$6:$B$105,MATCH(A56,Tasks!$K$6:$K$105,0))) | D56: =IF(A56="","",INDEX(Tasks!$J$6:$J$105,MATCH(A56,Tasks!$K$6:$K$105,0))) | E56: =IF(A56="","",INDEX(Tasks!$G$6:$G$105,MATCH(A56,Tasks!$K$6:$K$105,0))) | F56: =IF(A56="","",INDEX(Tasks!$I$6:$I$105,MATCH(A56,Tasks!$K$6:$K$105,0)))
A57: =IFERROR(SMALL(Tasks!$K$6:$K$105,52),"") | B57: =IF(A57="","",INDEX(Tasks!$A$6:$A$105,MATCH(A57,Tasks!$K$6:$K$105,0))) | C57: =IF(A57="","",INDEX(Tasks!$B$6:$B$105,MATCH(A57,Tasks!$K$6:$K$105,0))) | D57: =IF(A57="","",INDEX(Tasks!$J$6:$J$105,MATCH(A57,Tasks!$K$6:$K$105,0))) | E57: =IF(A57="","",INDEX(Tasks!$G$6:$G$105,MATCH(A57,Tasks!$K$6:$K$105,0))) | F57: =IF(A57="","",INDEX(Tasks!$I$6:$I$105,MATCH(A57,Tasks!$K$6:$K$105,0)))
A58: =IFERROR(SMALL(Tasks!$K$6:$K$105,53),"") | B58: =IF(A58="","",INDEX(Tasks!$A$6:$A$105,MATCH(A58,Tasks!$K$6:$K$105,0))) | C58: =IF(A58="","",INDEX(Tasks!$B$6:$B$105,MATCH(A58,Tasks!$K$6:$K$105,0))) | D58: =IF(A58="","",INDEX(Tasks!$J$6:$J$105,MATCH(A58,Tasks!$K$6:$K$105,0))) | E58: =IF(A58="","",INDEX(Tasks!$G$6:$G$105,MATCH(A58,Tasks!$K$6:$K$105,0))) | F58: =IF(A58="","",INDEX(Tasks!$I$6:$I$105,MATCH(A58,Tasks!$K$6:$K$105,0)))
A59: =IFERROR(SMALL(Tasks!$K$6:$K$105,54),"") | B59: =IF(A59="","",INDEX(Tasks!$A$6:$A$105,MATCH(A59,Tasks!$K$6:$K$105,0))) | C59: =IF(A59="","",INDEX(Tasks!$B$6:$B$105,MATCH(A59,Tasks!$K$6:$K$105,0))) | D59: =IF(A59="","",INDEX(Tasks!$J$6:$J$105,MATCH(A59,Tasks!$K$6:$K$105,0))) | E59: =IF(A59="","",INDEX(Tasks!$G$6:$G$105,MATCH(A59,Tasks!$K$6:$K$105,0))) | F59: =IF(A59="","",INDEX(Tasks!$I$6:$I$105,MATCH(A59,Tasks!$K$6:$K$105,0)))
A60: =IFERROR(SMALL(Tasks!$K$6:$K$105,55),"") | B60: =IF(A60="","",INDEX(Tasks!$A$6:$A$105,MATCH(A60,Tasks!$K$6:$K$105,0))) | C60: =IF(A60="","",INDEX(Tasks!$B$6:$B$105,MATCH(A60,Tasks!$K$6:$K$105,0))) | D60: =IF(A60="","",INDEX(Tasks!$J$6:$J$105,MATCH(A60,Tasks!$K$6:$K$105,0))) | E60: =IF(A60="","",INDEX(Tasks!$G$6:$G$105,MATCH(A60,Tasks!$K$6:$K$105,0))) | F60: =IF(A60="","",INDEX(Tasks!$I$6:$I$105,MATCH(A60,Tasks!$K$6:$K$105,0)))
A61: =IFERROR(SMALL(Tasks!$K$6:$K$105,56),"") | B61: =IF(A61="","",INDEX(Tasks!$A$6:$A$105,MATCH(A61,Tasks!$K$6:$K$105,0))) | C61: =IF(A61="","",INDEX(Tasks!$B$6:$B$105,MATCH(A61,Tasks!$K$6:$K$105,0))) | D61: =IF(A61="","",INDEX(Tasks!$J$6:$J$105,MATCH(A61,Tasks!$K$6:$K$105,0))) | E61: =IF(A61="","",INDEX(Tasks!$G$6:$G$105,MATCH(A61,Tasks!$K$6:$K$105,0))) | F61: =IF(A61="","",INDEX(Tasks!$I$6:$I$105,MATCH(A61,Tasks!$K$6:$K$105,0)))
A62: =IFERROR(SMALL(Tasks!$K$6:$K$105,57),"") | B62: =IF(A62="","",INDEX(Tasks!$A$6:$A$105,MATCH(A62,Tasks!$K$6:$K$105,0))) | C62: =IF(A62="","",INDEX(Tasks!$B$6:$B$105,MATCH(A62,Tasks!$K$6:$K$105,0))) | D62: =IF(A62="","",INDEX(Tasks!$J$6:$J$105,MATCH(A62,Tasks!$K$6:$K$105,0))) | E62: =IF(A62="","",INDEX(Tasks!$G$6:$G$105,MATCH(A62,Tasks!$K$6:$K$105,0))) | F62: =IF(A62="","",INDEX(Tasks!$I$6:$I$105,MATCH(A62,Tasks!$K$6:$K$105,0)))
A63: =IFERROR(SMALL(Tasks!$K$6:$K$105,58),"") | B63: =IF(A63="","",INDEX(Tasks!$A$6:$A$105,MATCH(A63,Tasks!$K$6:$K$105,0))) | C63: =IF(A63="","",INDEX(Tasks!$B$6:$B$105,MATCH(A63,Tasks!$K$6:$K$105,0))) | D63: =IF(A63="","",INDEX(Tasks!$J$6:$J$105,MATCH(A63,Tasks!$K$6:$K$105,0))) | E63: =IF(A63="","",INDEX(Tasks!$G$6:$G$105,MATCH(A63,Tasks!$K$6:$K$105,0))) | F63: =IF(A63="","",INDEX(Tasks!$I$6:$I$105,MATCH(A63,Tasks!$K$6:$K$105,0)))
A64: =IFERROR(SMALL(Tasks!$K$6:$K$105,59),"") | B64: =IF(A64="","",INDEX(Tasks!$A$6:$A$105,MATCH(A64,Tasks!$K$6:$K$105,0))) | C64: =IF(A64="","",INDEX(Tasks!$B$6:$B$105,MATCH(A64,Tasks!$K$6:$K$105,0))) | D64: =IF(A64="","",INDEX(Tasks!$J$6:$J$105,MATCH(A64,Tasks!$K$6:$K$105,0))) | E64: =IF(A64="","",INDEX(Tasks!$G$6:$G$105,MATCH(A64,Tasks!$K$6:$K$105,0))) | F64: =IF(A64="","",INDEX(Tasks!$I$6:$I$105,MATCH(A64,Tasks!$K$6:$K$105,0)))
A65: =IFERROR(SMALL(Tasks!$K$6:$K$105,60),"") | B65: =IF(A65="","",INDEX(Tasks!$A$6:$A$105,MATCH(A65,Tasks!$K$6:$K$105,0))) | C65: =IF(A65="","",INDEX(Tasks!$B$6:$B$105,MATCH(A65,Tasks!$K$6:$K$105,0))) | D65: =IF(A65="","",INDEX(Tasks!$J$6:$J$105,MATCH(A65,Tasks!$K$6:$K$105,0))) | E65: =IF(A65="","",INDEX(Tasks!$G$6:$G$105,MATCH(A65,Tasks!$K$6:$K$105,0))) | F65: =IF(A65="","",INDEX(Tasks!$I$6:$I$105,MATCH(A65,Tasks!$K$6:$K$105,0)))

Sheet Tasks
A1: All jobs
A2: ="Today is "&TEXT(Settings!B3,"dddd d mmmm")&" · "&COUNTIF(I6:I105,"Overdue")&" overdue · "&COUNTIF(I6:I105,"Due today")&" due today" -> Today is Sunday 25 October · 7 overdue · 2 due today
A5: Job | B5: Room | C5: Every | D5: Days / weeks / months | E5: Last done | F5: Who | G5: Next due | H5: Days left | I5: Status | J5: Assigned to | K5: sort
A6: Wipe counters and stovetop | B6: Kitchen | C6: 1 | D6: days | E6: =Settings!$B$3-1 -> 46319 | F6: Rotate | G6: =IF(OR(A6="",N(C6)<=0),"",IF(E6="",Settings!$B$3,IF(D6="months",EDATE(E6,C6),E6+C6*IF(D6="weeks",7,1)))) -> 46320 | H6: =IF(G6="","",G6-Settings!$B$3) -> 0 | I6: =IF(H6="","",IF(H6<0,"Overdue",IF(H6=0,"Due today",IF(H6<=6,"This week","Later")))) -> Due today | J6: =IF(G6="","",IF(F6="Rotate",IFERROR(INDEX(Settings!$A$6:$A$11,MOD(INT((G6-DATE(2024,1,1))/7)+ROW(),COUNTA(Settings!$A$6:$A$11))+1),""),F6)) -> Jordan | K6: =IF(H6="","",IF(H6>6,"",(H6+100000)*1000+ROW())) -> 100000006
A7: Load / unload dishwasher | B7: Kitchen | C7: 1 | D7: days | E7: =Settings!$B$3-0 -> 46320 | F7: Rotate | G7: =IF(OR(A7="",N(C7)<=0),"",IF(E7="",Settings!$B$3,IF(D7="months",EDATE(E7,C7),E7+C7*IF(D7="weeks",7,1)))) -> 46321 | H7: =IF(G7="","",G7-Settings!$B$3) -> 1 | I7: =IF(H7="","",IF(H7<0,"Overdue",IF(H7=0,"Due today",IF(H7<=6,"This week","Later")))) -> This week | J7: =IF(G7="","",IF(F7="Rotate",IFERROR(INDEX(Settings!$A$6:$A$11,MOD(INT((G7-DATE(2024,1,1))/7)+ROW(),COUNTA(Settings!$A$6:$A$11))+1),""),F7)) -> Sam | K7: =IF(H7="","",IF(H7>6,"",(H7+100000)*1000+ROW())) -> 100001007
A8: Take out trash and recycling | B8: Kitchen | C8: 3 | D8: days | E8: =Settings!$B$3-4 -> 46316 | F8: Sam | G8: =IF(OR(A8="",N(C8)<=0),"",IF(E8="",Settings!$B$3,IF(D8="months",EDATE(E8,C8),E8+C8*IF(D8="weeks",7,1)))) -> 46319 | H8: =IF(G8="","",G8-Settings!$B$3) -> -1 | I8: =IF(H8="","",IF(H8<0,"Overdue",IF(H8=0,"Due today",IF(H8<=6,"This week","Later")))) -> Overdue | J8: =IF(G8="","",IF(F8="Rotate",IFERROR(INDEX(Settings!$A$6:$A$11,MOD(INT((G8-DATE(2024,1,1))/7)+ROW(),COUNTA(Settings!$A$6:$A$11))+1),""),F8)) -> Sam | K8: =IF(H8="","",IF(H8>6,"",(H8+100000)*1000+ROW())) -> 99999008
A9: Clean microwave | B9: Kitchen | C9: 1 | D9: weeks | E9: =Settings!$B$3-9 -> 46311 | F9: Rotate | G9: =IF(OR(A9="",N(C9)<=0),"",IF(E9="",Settings!$B$3,IF(D9="months",EDATE(E9,C9),E9+C9*IF(D9="weeks",7,1)))) -> 46318 | H9: =IF(G9="","",G9-Settings!$B$3) -> -2 | I9: =IF(H9="","",IF(H9<0,"Overdue",IF(H9=0,"Due today",IF(H9<=6,"This week","Later")))) -> Overdue | J9: =IF(G9="","",IF(F9="Rotate",IFERROR(INDEX(Settings!$A$6:$A$11,MOD(INT((G9-DATE(2024,1,1))/7)+ROW(),COUNTA(Settings!$A$6:$A$11))+1),""),F9)) -> Jordan | K9: =IF(H9="","",IF(H9>6,"",(H9+100000)*1000+ROW())) -> 99998009
A10: Mop kitchen floor | B10: Kitchen | C10: 1 | D10: weeks | E10: =Settings!$B$3-5 -> 46315 | F10: Alex | G10: =IF(OR(A10="",N(C10)<=0),"",IF(E10="",Settings!$B$3,IF(D10="months",EDATE(E10,C10),E10+C10*IF(D10="weeks",7,1)))) -> 46322 | H10: =IF(G10="","",G10-Settings!$B$3) -> 2 | I10: =IF(H10="","",IF(H10<0,"Overdue",IF(H10=0,"Due today",IF(H10<=6,"This week","Later")))) -> This week | J10: =IF(G10="","",IF(F10="Rotate",IFERROR(INDEX(Settings!$A$6:$A$11,MOD(INT((G10-DATE(2024,1,1))/7)+ROW(),COUNTA(Settings!$A$6:$A$11))+1),""),F10)) -> Alex | K10: =IF(H10="","",IF(H10>6,"",(H10+100000)*1000+ROW())) -> 100002010
A11: Clear out fridge | B11: Kitchen | C11: 1 | D11: weeks | E11: =Settings!$B$3-6 -> 46314 | F11: Jordan | G11: =IF(OR(A11="",N(C11)<=0),"",IF(E11="",Settings!$B$3,IF(D11="months",EDATE(E11,C11),E11+C11*IF(D11="weeks",7,1)))) -> 46321 | H11: =IF(G11="","",G11-Settings!$B$3) -> 1 | I11: =IF(H11="","",IF(H11<0,"Overdue",IF(H11=0,"Due today",IF(H11<=6,"This week","Later")))) -> This week | J11: =IF(G11="","",IF(F11="Rotate",IFERROR(INDEX(Settings!$A$6:$A$11,MOD(INT((G11-DATE(2024,1,1))/7)+ROW(),COUNTA(Settings!$A$6:$A$11))+1),""),F11)) -> Jordan | K11: =IF(H11="","",IF(H11>6,"",(H11+100000)*1000+ROW())) -> 100001011
A12: Deep-clean oven | B12: Kitchen | C12: 3 | D12: months | E12: =Settings!$B$3-40 -> 46280 | F12: Alex | G12: =IF(OR(A12="",N(C12)<=0),"",IF(E12="",Settings!$B$3,IF(D12="months",EDATE(E12,C12),E12+C12*IF(D12="weeks",7,1)))) -> 46371 | H12: =IF(G12="","",G12-Settings!$B$3) -> 51 | I12: =IF(H12="","",IF(H12<0,"Overdue",IF(H12=0,"Due today",IF(H12<=6,"This week","Later")))) -> Later | J12: =IF(G12="","",IF(F12="Rotate",IFERROR(INDEX(Settings!$A$6:$A$11,MOD(INT((G12-DATE(2024,1,1))/7)+ROW(),COUNTA(Settings!$A$6:$A$11))+1),""),F12)) -> Alex | K12: =IF(H12="","",IF(H12>6,"",(H12+100000)*1000+ROW()))
A13: Clean toilet | B13: Bathroom | C13: 1 | D13: weeks | E13: =Settings!$B$3-8 -> 46312 | F13: Rotate | G13: =IF(OR(A13="",N(C13)<=0),"",IF(E13="",Settings!$B$3,IF(D13="months",EDATE(E13,C13),E13+C13*IF(D13="weeks",7,1)))) -> 46319 | H13: =IF(G13="","",G13-Settings!$B$3) -> -1 | I13: =IF(H13="","",IF(H13<0,"Overdue",IF(H13=0,"Due today",IF(H13<=6,"This week","Later")))) -> Overdue | J13: =IF(G13="","",IF(F13="Rotate",IFERROR(INDEX(Settings!$A$6:$A$11,MOD(INT((G13-DATE(2024,1,1))/7)+ROW(),COUNTA(Settings!$A$6:$A$11))+1),""),F13)) -> Alex | K13: =IF(H13="","",IF(H13>6,"",(H13+100000)*1000+ROW())) -> 99999013
A14: Scrub shower / tub | B14: Bathroom | C14: 1 | D14: weeks | E14: =Settings!$B$3-3 -> 46317 | F14: Rotate | G14: =IF(OR(A14="",N(C14)<=0),"",IF(E14="",Settings!$B$3,IF(D14="months",EDATE(E14,C14),E14+C14*IF(D14="weeks",7,1)))) -> 46324 | H14: =IF(G14="","",G14-Settings!$B$3) -> 4 | I14: =IF(H14="","",IF(H14<0,"Overdue",IF(H14=0,"Due today",IF(H14<=6,"This week","Later")))) -> This week | J14: =IF(G14="","",IF(F14="Rotate",IFERROR(INDEX(Settings!$A$6:$A$11,MOD(INT((G14-DATE(2024,1,1))/7)+ROW(),COUNTA(Settings!$A$6:$A$11))+1),""),F14)) -> Jordan | K14: =IF(H14="","",IF(H14>6,"",(H14+100000)*1000+ROW())) -> 100004014
A15: Wipe sink and mirror | B15: Bathroom | C15: 3 | D15: days | E15: =Settings!$B$3-2 -> 46318 | F15: Rotate | G15: =IF(OR(A15="",N(C15)<=0),"",IF(E15="",Settings!$B$3,IF(D15="months",EDATE(E15,C15),E15+C15*IF(D15="weeks",7,1)))) -> 46321 | H15: =IF(G15="","",G15-Settings!$B$3) -> 1 | I15: =IF(H15="","",IF(H15<0,"Overdue",IF(H15=0,"Due today",IF(H15<=6,"This week","Later")))) -> This week | J15: =IF(G15="","",IF(F15="Rotate",IFERROR(INDEX(Settings!$A$6:$A$11,MOD(INT((G15-DATE(2024,1,1))/7)+ROW(),COUNTA(Settings!$A$6:$A$11))+1),""),F15)) -> Alex | K15: =IF(H15="","",IF(H15>6,"",(H15+100000)*1000+ROW())) -> 100001015
A16: Wash bath mats | B16: Bathroom | C16: 1 | D16: months | E16: =Settings!$B$3-20 -> 46300 | F16: Jordan | G16: =IF(OR(A16="",N(C16)<=0),"",IF(E16="",Settings!$B$3,IF(D16="months",EDATE(E16,C16),E16+C16*IF(D16="weeks",7,1)))) -> 46331 | H16: =IF(G16="","",G16-Settings!$B$3) -> 11 | I16: =IF(H16="","",IF(H16<0,"Overdue",IF(H16=0,"Due today",IF(H16<=6,"This week","Later")))) -> Later | J16: =IF(G16="","",IF(F16="Rotate",IFERROR(INDEX(Settings!$A$6:$A$11,MOD(INT((G16-DATE(2024,1,1))/7)+ROW(),COUNTA(Settings!$A$6:$A$11))+1),""),F16)) -> Jordan | K16: =IF(H16="","",IF(H16>6,"",(H16+100000)*1000+ROW()))
A17: Wash towels | B17: Bathroom | C17: 1 | D17: weeks | E17: =Settings!$B$3-7 -> 46313 | F17: Sam | G17: =IF(OR(A17="",N(C17)<=0),"",IF(E17="",Settings!$B$3,IF(D17="months",EDATE(E17,C17),E17+C17*IF(D17="weeks",7,1)))) -> 46320 | H17: =IF(G17="","",G17-Settings!$B$3) -> 0 | I17: =IF(H17="","",IF(H17<0,"Overdue",IF(H17=0,"Due today",IF(H17<=6,"This week","Later")))) -> Due today | J17: =IF(G17="","",IF(F17="Rotate",IFERROR(INDEX(Settings!$A$6:$A$11,MOD(INT((G17-DATE(2024,1,1))/7)+ROW(),COUNTA(Settings!$A$6:$A$11))+1),""),F17)) -> Sam | K17: =IF(H17="","",IF(H17>6,"",(H17+100000)*1000+ROW())) -> 100000017
A18: Change bed sheets | B18: Bedrooms | C18: 1 | D18: weeks | E18: =Settings!$B$3-10 -> 46310 | F18: Rotate | G18: =IF(OR(A18="",N(C18)<=0),"",IF(E18="",Settings!$B$3,IF(D18="months",EDATE(E18,C18),E18+C18*IF(D18="weeks",7,1)))) -> 46317 | H18: =IF(G18="","",G18-Settings!$B$3) -> -3 | I18: =IF(H18="","",IF(H18<0,"Overdue",IF(H18=0,"Due today",IF(H18<=6,"This week","Later")))) -> Overdue | J18: =IF(G18="","",IF(F18="Rotate",IFERROR(INDEX(Settings!$A$6:$A$11,MOD(INT((G18-DATE(2024,1,1))/7)+ROW(),COUNTA(Settings!$A$6:$A$11))+1),""),F18)) -> Jordan | K18: =IF(H18="","",IF(H18>6,"",(H18+100000)*1000+ROW())) -> 99997018
A19: Vacuum bedrooms | B19: Bedrooms | C19: 1 | D19: weeks | E19: =Settings!$B$3-4 -> 46316 | F19: Jordan | G19: =IF(OR(A19="",N(C19)<=0),"",IF(E19="",Settings!$B$3,IF(D19="months",EDATE(E19,C19),E19+C19*IF(D19="weeks",7,1)))) -> 46323 | H19: =IF(G19="","",G19-Settings!$B$3) -> 3 | I19: =IF(H19="","",IF(H19<0,"Overdue",IF(H19=0,"Due today",IF(H19<=6,"This week","Later")))) -> This week | J19: =IF(G19="","",IF(F19="Rotate",IFERROR(INDEX(Settings!$A$6:$A$11,MOD(INT((G19-DATE(2024,1,1))/7)+ROW(),COUNTA(Settings!$A$6:$A$11))+1),""),F19)) -> Jordan | K19: =IF(H19="","",IF(H19>6,"",(H19+100000)*1000+ROW())) -> 100003019
A20: Flip / rotate mattress | B20: Bedrooms | C20: 6 | D20: months | E20: =Settings!$B$3-100 -> 46220 | F20: Alex | G20: =IF(OR(A20="",N(C20)<=0),"",IF(E20="",Settings!$B$3,IF(D20="months",EDATE(E20,C20),E20+C20*IF(D20="weeks",7,1)))) -> 46404 | H20: =IF(G20="","",G20-Settings!$B$3) -> 84 | I20: =IF(H20="","",IF(H20<0,"Overdue",IF(H20=0,"Due today",IF(H20<=6,"This week","Later")))) -> Later | J20: =IF(G20="","",IF(F20="Rotate",IFERROR(INDEX(Settings!$A$6:$A$11,MOD(INT((G20-DATE(2024,1,1))/7)+ROW(),COUNTA(Settings!$A$6:$A$11))+1),""),F20)) -> Alex | K20: =IF(H20="","",IF(H20>6,"",(H20+100000)*1000+ROW()))
A21: Vacuum living room | B21: Living room | C21: 1 | D21: weeks | E21: =Settings!$B$3-6 -> 46314 | F21: Sam | G21: =IF(OR(A21="",N(C21)<=0),"",IF(E21="",Settings!$B$3,IF(D21="months",EDATE(E21,C21),E21+C21*IF(D21="weeks",7,1)))) -> 46321 | H21: =IF(G21="","",G21-Settings!$B$3) -> 1 | I21: =IF(H21="","",IF(H21<0,"Overdue",IF(H21=0,"Due today",IF(H21<=6,"This week","Later")))) -> This week | J21: =IF(G21="","",IF(F21="Rotate",IFERROR(INDEX(Settings!$A$6:$A$11,MOD(INT((G21-DATE(2024,1,1))/7)+ROW(),COUNTA(Settings!$A$6:$A$11))+1),""),F21)) -> Sam | K21: =IF(H21="","",IF(H21>6,"",(H21+100000)*1000+ROW())) -> 100001021
A22: Dust shelves and surfaces | B22: Living room | C22: 2 | D22: weeks | E22: =Settings!$B$3-12 -> 46308 | F22: Rotate | G22: =IF(OR(A22="",N(C22)<=0),"",IF(E22="",Settings!$B$3,IF(D22="months",EDATE(E22,C22),E22+C22*IF(D22="weeks",7,1)))) -> 46322 | H22: =IF(G22="","",G22-Settings!$B$3) -> 2 | I22: =IF(H22="","",IF(H22<0,"Overdue",IF(H22=0,"Due today",IF(H22<=6,"This week","Later")))) -> This week | J22: =IF(G22="","",IF(F22="Rotate",IFERROR(INDEX(Settings!$A$6:$A$11,MOD(INT((G22-DATE(2024,1,1))/7)+ROW(),COUNTA(Settings!$A$6:$A$11))+1),""),F22)) -> Sam | K22: =IF(H22="","",IF(H22>6,"",(H22+100000)*1000+ROW())) -> 100002022
A23: Wash throws and cushion covers | B23: Living room | C23: 1 | D23: months | E23: =Settings!$B$3-35 -> 46285 | F23: Jordan | G23: =IF(OR(A23="",N(C23)<=0),"",IF(E23="",Settings!$B$3,IF(D23="months",EDATE(E23,C23),E23+C23*IF(D23="weeks",7,1)))) -> 46315 | H23: =IF(G23="","",G23-Settings!$B$3) -> -5 | I23: =IF(H23="","",IF(H23<0,"Overdue",IF(H23=0,"Due today",IF(H23<=6,"This week","Later")))) -> Overdue | J23: =IF(G23="","",IF(F23="Rotate",IFERROR(INDEX(Settings!$A$6:$A$11,MOD(INT((G23-DATE(2024,1,1))/7)+ROW(),COUNTA(Settings!$A$6:$A$11))+1),""),F23)) -> Jordan | K23: =IF(H23="","",IF(H23>6,"",(H23+100000)*1000+ROW())) -> 99995023
A24: Clean windows (inside) | B24: Whole house | C24: 3 | D24: months | E24: =Settings!$B$3-60 -> 46260 | F24: Alex | G24: =IF(OR(A24="",N(C24)<=0),"",IF(E24="",Settings!$B$3,IF(D24="months",EDATE(E24,C24),E24+C24*IF(D24="weeks",7,1)))) -> 46352 | H24: =IF(G24="","",G24-Settings!$B$3) -> 32 | I24: =IF(H24="","",IF(H24<0,"Overdue",IF(H24=0,"Due today",IF(H24<=6,"This week","Later")))) -> Later | J24: =IF(G24="","",IF(F24="Rotate",IFERROR(INDEX(Settings!$A$6:$A$11,MOD(INT((G24-DATE(2024,1,1))/7)+ROW(),COUNTA(Settings!$A$6:$A$11))+1),""),F24)) -> Alex | K24: =IF(H24="","",IF(H24>6,"",(H24+100000)*1000+ROW()))
A25: Wipe light switches and door handles | B25: Whole house | C25: 2 | D25: weeks | E25: =Settings!$B$3-15 -> 46305 | F25: Rotate | G25: =IF(OR(A25="",N(C25)<=0),"",IF(E25="",Settings!$B$3,IF(D25="months",EDATE(E25,C25),E25+C25*IF(D25="weeks",7,1)))) -> 46319 | H25: =IF(G25="","",G25-Settings!$B$3) -> -1 | I25: =IF(H25="","",IF(H25<0,"Overdue",IF(H25=0,"Due today",IF(H25<=6,"This week","Later")))) -> Overdue | J25: =IF(G25="","",IF(F25="Rotate",IFERROR(INDEX(Settings!$A$6:$A$11,MOD(INT((G25-DATE(2024,1,1))/7)+ROW(),COUNTA(Settings!$A$6:$A$11))+1),""),F25)) -> Alex | K25: =IF(H25="","",IF(H25>6,"",(H25+100000)*1000+ROW())) -> 99999025
A26: Replace HVAC filter | B26: Whole house | C26: 3 | D26: months | E26: =Settings!$B$3-85 -> 46235 | F26: Alex | G26: =IF(OR(A26="",N(C26)<=0),"",IF(E26="",Settings!$B$3,IF(D26="months",EDATE(E26,C26),E26+C26*IF(D26="weeks",7,1)))) -> 46327 | H26: =IF(G26="","",G26-Settings!$B$3) -> 7 | I26: =IF(H26="","",IF(H26<0,"Overdue",IF(H26=0,"Due today",IF(H26<=6,"This week","Later")))) -> Later | J26: =IF(G26="","",IF(F26="Rotate",IFERROR(INDEX(Settings!$A$6:$A$11,MOD(INT((G26-DATE(2024,1,1))/7)+ROW(),COUNTA(Settings!$A$6:$A$11))+1),""),F26)) -> Alex | K26: =IF(H26="","",IF(H26>6,"",(H26+100000)*1000+ROW()))
A27: Test smoke alarms | B27: Whole house | C27: 1 | D27: months | E27: =Settings!$B$3-31 -> 46289 | F27: Sam | G27: =IF(OR(A27="",N(C27)<=0),"",IF(E27="",Settings!$B$3,IF(D27="months",EDATE(E27,C27),E27+C27*IF(D27="weeks",7,1)))) -> 46319 | H27: =IF(G27="","",G27-Settings!$B$3) -> -1 | I27: =IF(H27="","",IF(H27<0,"Overdue",IF(H27=0,"Due today",IF(H27<=6,"This week","Later")))) -> Overdue | J27: =IF(G27="","",IF(F27="Rotate",IFERROR(INDEX(Settings!$A$6:$A$11,MOD(INT((G27-DATE(2024,1,1))/7)+ROW(),COUNTA(Settings!$A$6:$A$11))+1),""),F27)) -> Sam | K27: =IF(H27="","",IF(H27>6,"",(H27+100000)*1000+ROW())) -> 99999027
A28: Sweep porch / entryway | B28: Outside | C28: 1 | D28: weeks | E28: =Settings!$B$3-2 -> 46318 | F28: Jordan | G28: =IF(OR(A28="",N(C28)<=0),"",IF(E28="",Settings!$B$3,IF(D28="months",EDATE(E28,C28),E28+C28*IF(D28="weeks",7,1)))) -> 46325 | H28: =IF(G28="","",G28-Settings!$B$3) -> 5 | I28: =IF(H28="","",IF(H28<0,"Overdue",IF(H28=0,"Due today",IF(H28<=6,"This week","Later")))) -> This week | J28: =IF(G28="","",IF(F28="Rotate",IFERROR(INDEX(Settings!$A$6:$A$11,MOD(INT((G28-DATE(2024,1,1))/7)+ROW(),COUNTA(Settings!$A$6:$A$11))+1),""),F28)) -> Jordan | K28: =IF(H28="","",IF(H28>6,"",(H28+100000)*1000+ROW())) -> 100005028
G29: =IF(OR(A29="",N(C29)<=0),"",IF(E29="",Settings!$B$3,IF(D29="months",EDATE(E29,C29),E29+C29*IF(D29="weeks",7,1)))) | H29: =IF(G29="","",G29-Settings!$B$3) | I29: =IF(H29="","",IF(H29<0,"Overdue",IF(H29=0,"Due today",IF(H29<=6,"This week","Later")))) | J29: =IF(G29="","",IF(F29="Rotate",IFERROR(INDEX(Settings!$A$6:$A$11,MOD(INT((G29-DATE(2024,1,1))/7)+ROW(),COUNTA(Settings!$A$6:$A$11))+1),""),F29)) | K29: =IF(H29="","",IF(H29>6,"",(H29+100000)*1000+ROW()))
G30: =IF(OR(A30="",N(C30)<=0),"",IF(E30="",Settings!$B$3,IF(D30="months",EDATE(E30,C30),E30+C30*IF(D30="weeks",7,1)))) | H30: =IF(G30="","",G30-Settings!$B$3) | I30: =IF(H30="","",IF(H30<0,"Overdue",IF(H30=0,"Due today",IF(H30<=6,"This week","Later")))) | J30: =IF(G30="","",IF(F30="Rotate",IFERROR(INDEX(Settings!$A$6:$A$11,MOD(INT((G30-DATE(2024,1,1))/7)+ROW(),COUNTA(Settings!$A$6:$A$11))+1),""),F30)) | K30: =IF(H30="","",IF(H30>6,"",(H30+100000)*1000+ROW()))
G31: =IF(OR(A31="",N(C31)<=0),"",IF(E31="",Settings!$B$3,IF(D31="months",EDATE(E31,C31),E31+C31*IF(D31="weeks",7,1)))) | H31: =IF(G31="","",G31-Settings!$B$3) | I31: =IF(H31="","",IF(H31<0,"Overdue",IF(H31=0,"Due today",IF(H31<=6,"This week","Later")))) | J31: =IF(G31="","",IF(F31="Rotate",IFERROR(INDEX(Settings!$A$6:$A$11,MOD(INT((G31-DATE(2024,1,1))/7)+ROW(),COUNTA(Settings!$A$6:$A$11))+1),""),F31)) | K31: =IF(H31="","",IF(H31>6,"",(H31+100000)*1000+ROW()))
G32: =IF(OR(A32="",N(C32)<=0),"",IF(E32="",Settings!$B$3,IF(D32="months",EDATE(E32,C32),E32+C32*IF(D32="weeks",7,1)))) | H32: =IF(G32="","",G32-Settings!$B$3) | I32: =IF(H32="","",IF(H32<0,"Overdue",IF(H32=0,"Due today",IF(H32<=6,"This week","Later")))) | J32: =IF(G32="","",IF(F32="Rotate",IFERROR(INDEX(Settings!$A$6:$A$11,MOD(INT((G32-DATE(2024,1,1))/7)+ROW(),COUNTA(Settings!$A$6:$A$11))+1),""),F32)) | K32: =IF(H32="","",IF(H32>6,"",(H32+100000)*1000+ROW()))
G33: =IF(OR(A33="",N(C33)<=0),"",IF(E33="",Settings!$B$3,IF(D33="months",EDATE(E33,C33),E33+C33*IF(D33="weeks",7,1)))) | H33: =IF(G33="","",G33-Settings!$B$3) | I33: =IF(H33="","",IF(H33<0,"Overdue",IF(H33=0,"Due today",IF(H33<=6,"This week","Later")))) | J33: =IF(G33="","",IF(F33="Rotate",IFERROR(INDEX(Settings!$A$6:$A$11,MOD(INT((G33-DATE(2024,1,1))/7)+ROW(),COUNTA(Settings!$A$6:$A$11))+1),""),F33)) | K33: =IF(H33="","",IF(H33>6,"",(H33+100000)*1000+ROW()))
G34: =IF(OR(A34="",N(C34)<=0),"",IF(E34="",Settings!$B$3,IF(D34="months",EDATE(E34,C34),E34+C34*IF(D34="weeks",7,1)))) | H34: =IF(G34="","",G34-Settings!$B$3) | I34: =IF(H34="","",IF(H34<0,"Overdue",IF(H34=0,"Due today",IF(H34<=6,"This week","Later")))) | J34: =IF(G34="","",IF(F34="Rotate",IFERROR(INDEX(Settings!$A$6:$A$11,MOD(INT((G34-DATE(2024,1,1))/7)+ROW(),COUNTA(Settings!$A$6:$A$11))+1),""),F34)) | K34: =IF(H34="","",IF(H34>6,"",(H34+100000)*1000+ROW()))
G35: =IF(OR(A35="",N(C35)<=0),"",IF(E35="",Settings!$B$3,IF(D35="months",EDATE(E35,C35),E35+C35*IF(D35="weeks",7,1)))) | H35: =IF(G35="","",G35-Settings!$B$3) | I35: =IF(H35="","",IF(H35<0,"Overdue",IF(H35=0,"Due today",IF(H35<=6,"This week","Later")))) | J35: =IF(G35="","",IF(F35="Rotate",IFERROR(INDEX(Settings!$A$6:$A$11,MOD(INT((G35-DATE(2024,1,1))/7)+ROW(),COUNTA(Settings!$A$6:$A$11))+1),""),F35)) | K35: =IF(H35="","",IF(H35>6,"",(H35+100000)*1000+ROW()))
G36: =IF(OR(A36="",N(C36)<=0),"",IF(E36="",Settings!$B$3,IF(D36="months",EDATE(E36,C36),E36+C36*IF(D36="weeks",7,1)))) | H36: =IF(G36="","",G36-Settings!$B$3) | I36: =IF(H36="","",IF(H36<0,"Overdue",IF(H36=0,"Due today",IF(H36<=6,"This week","Later")))) | J36: =IF(G36="","",IF(F36="Rotate",IFERROR(INDEX(Settings!$A$6:$A$11,MOD(INT((G36-DATE(2024,1,1))/7)+ROW(),COUNTA(Settings!$A$6:$A$11))+1),""),F36)) | K36: =IF(H36="","",IF(H36>6,"",(H36+100000)*1000+ROW()))
G37: =IF(OR(A37="",N(C37)<=0),"",IF(E37="",Settings!$B$3,IF(D37="months",EDATE(E37,C37),E37+C37*IF(D37="weeks",7,1)))) | H37: =IF(G37="","",G37-Settings!$B$3) | I37: =IF(H37="","",IF(H37<0,"Overdue",IF(H37=0,"Due today",IF(H37<=6,"This week","Later")))) | J37: =IF(G37="","",IF(F37="Rotate",IFERROR(INDEX(Settings!$A$6:$A$11,MOD(INT((G37-DATE(2024,1,1))/7)+ROW(),COUNTA(Settings!$A$6:$A$11))+1),""),F37)) | K37: =IF(H37="","",IF(H37>6,"",(H37+100000)*1000+ROW()))
G38: =IF(OR(A38="",N(C38)<=0),"",IF(E38="",Settings!$B$3,IF(D38="months",EDATE(E38,C38),E38+C38*IF(D38="weeks",7,1)))) | H38: =IF(G38="","",G38-Settings!$B$3) | I38: =IF(H38="","",IF(H38<0,"Overdue",IF(H38=0,"Due today",IF(H38<=6,"This week","Later")))) | J38: =IF(G38="","",IF(F38="Rotate",IFERROR(INDEX(Settings!$A$6:$A$11,MOD(INT((G38-DATE(2024,1,1))/7)+ROW(),COUNTA(Settings!$A$6:$A$11))+1),""),F38)) | K38: =IF(H38="","",IF(H38>6,"",(H38+100000)*1000+ROW()))
G39: =IF(OR(A39="",N(C39)<=0),"",IF(E39="",Settings!$B$3,IF(D39="months",EDATE(E39,C39),E39+C39*IF(D39="weeks",7,1)))) | H39: =IF(G39="","",G39-Settings!$B$3) | I39: =IF(H39="","",IF(H39<0,"Overdue",IF(H39=0,"Due today",IF(H39<=6,"This week","Later")))) | J39: =IF(G39="","",IF(F39="Rotate",IFERROR(INDEX(Settings!$A$6:$A$11,MOD(INT((G39-DATE(2024,1,1))/7)+ROW(),COUNTA(Settings!$A$6:$A$11))+1),""),F39)) | K39: =IF(H39="","",IF(H39>6,"",(H39+100000)*1000+ROW()))
G40: =IF(OR(A40="",N(C40)<=0),"",IF(E40="",Settings!$B$3,IF(D40="months",EDATE(E40,C40),E40+C40*IF(D40="weeks",7,1)))) | H40: =IF(G40="","",G40-Settings!$B$3) | I40: =IF(H40="","",IF(H40<0,"Overdue",IF(H40=0,"Due today",IF(H40<=6,"This week","Later")))) | J40: =IF(G40="","",IF(F40="Rotate",IFERROR(INDEX(Settings!$A$6:$A$11,MOD(INT((G40-DATE(2024,1,1))/7)+ROW(),COUNTA(Settings!$A$6:$A$11))+1),""),F40)) | K40: =IF(H40="","",IF(H40>6,"",(H40+100000)*1000+ROW()))
... G105: =IF(OR(A105="",N(C105)<=0),"",IF(E105="",Settings!$B$3,IF(D105="months",EDATE(E105,C105),E105+C105*IF(D105="weeks",7,1)))) | H105: =IF(G105="","",G105-Settings!$B$3) | I105: =IF(H105="","",IF(H105<0,"Overdue",IF(H105=0,"Due today",IF(H105<=6,"This week","Later")))) | J105: =IF(G105="","",IF(F105="Rotate",IFERROR(INDEX(Settings!$A$6:$A$11,MOD(INT((G105-DATE(2024,1,1))/7)+ROW(),COUNTA(Settings!$A$6:$A$11))+1),""),F105)) | K105: =IF(H105="","",IF(H105>6,"",(H105+100000)*1000+ROW()))

Sheet Settings
A1: Settings
A3: Today's date | B3: =TODAY() -> 46320 | C3: Updates by itself every time the file opens.
A5: People | D5: who list
A6: Alex | D6: =IF(A6="","",A6) -> Alex
A7: Sam | D7: =IF(A7="","",A7) -> Sam
A8: Jordan | D8: =IF(A8="","",A8) -> Jordan
D9: =IF(A9="","",A9)
D10: =IF(A10="","",A10)
D11: =IF(A11="","",A11)
D12: Rotate
